BEGIN:VCALENDAR
VERSION:2.0
PRODID:-//Elif Ezgi Balıkçı - ECPv6.7.0//NONSGML v1.0//EN
CALSCALE:GREGORIAN
METHOD:PUBLISH
X-WR-CALNAME:Elif Ezgi Balıkçı
X-ORIGINAL-URL:https://elifezgibalikci.com
X-WR-CALDESC:Elif Ezgi Balıkçı için etkinlikler
REFRESH-INTERVAL;VALUE=DURATION:PT1H
X-Robots-Tag:noindex
X-PUBLISHED-TTL:PT1H
BEGIN:VTIMEZONE
TZID:Europe/Moscow
BEGIN:STANDARD
TZOFFSETFROM:+0300
TZOFFSETTO:+0300
TZNAME:MSK
DTSTART:20240101T000000
END:STANDARD
END:VTIMEZONE
BEGIN:VEVENT
DTSTART;TZID=Europe/Moscow:20241026T153000
DTEND;TZID=Europe/Moscow:20241026T170000
DTSTAMP:20260421T214239
CREATED:20240930T211004Z
LAST-MODIFIED:20240930T211004Z
UID:2115-1729956600-1729962000@elifezgibalikci.com
SUMMARY:Çocuklara Motivasyon ve Özgüven Kazandırma Yöntemleri
DESCRIPTION:Bu etkinlikte\, çocukların sınav dönemlerinde ve genel olarak eğitim hayatlarında motivasyonlarını yüksek tutmanın ve özgüvenlerini artırmanın yolları ele alınacaktır. Uzman konuşmacılar\, ebeveynlerin çocuklarına nasıl destek olabileceklerini\, olumlu geri bildirimler vermenin önemini ve çocukların kendi potansiyellerini keşfetmelerine yardımcı olacak stratejileri paylaşacaktır. Etkinlik süresince\, pratik örnekler ve uygulamalarla ebeveynlerin çocuklarına motive edici bir ortam sunmaları hedeflenecektir.
URL:https://elifezgibalikci.com/etkinlik/cocuklara-motivasyon-ve-ozguven-kazandirma-yontemleri/
CATEGORIES:Atölye ve Eğitimler
ATTACH;FMTTYPE=image/jpeg:https://elifezgibalikci.com/wp-content/uploads/2023/10/the-most.jpg
END:VEVENT
END:VCALENDAR